BEGIN:VCALENDAR
VERSION:2.0
PRODID:-//Inspiring Hands - ECPv6.15.11//NONSGML v1.0//EN
CALSCALE:GREGORIAN
METHOD:PUBLISH
X-ORIGINAL-URL:https://inspiringhands.org
X-WR-CALDESC:Events for Inspiring Hands
REFRESH-INTERVAL;VALUE=DURATION:PT1H
X-Robots-Tag:noindex
X-PUBLISHED-TTL:PT1H
BEGIN:VTIMEZONE
TZID:America/Chicago
BEGIN:DAYLIGHT
TZOFFSETFROM:-0600
TZOFFSETTO:-0500
TZNAME:CDT
DTSTART:20210314T080000
END:DAYLIGHT
BEGIN:STANDARD
TZOFFSETFROM:-0500
TZOFFSETTO:-0600
TZNAME:CST
DTSTART:20211107T070000
END:STANDARD
BEGIN:DAYLIGHT
TZOFFSETFROM:-0600
TZOFFSETTO:-0500
TZNAME:CDT
DTSTART:20220313T080000
END:DAYLIGHT
BEGIN:STANDARD
TZOFFSETFROM:-0500
TZOFFSETTO:-0600
TZNAME:CST
DTSTART:20221106T070000
END:STANDARD
BEGIN:DAYLIGHT
TZOFFSETFROM:-0600
TZOFFSETTO:-0500
TZNAME:CDT
DTSTART:20230312T080000
END:DAYLIGHT
BEGIN:STANDARD
TZOFFSETFROM:-0500
TZOFFSETTO:-0600
TZNAME:CST
DTSTART:20231105T070000
END:STANDARD
BEGIN:DAYLIGHT
TZOFFSETFROM:-0600
TZOFFSETTO:-0500
TZNAME:CDT
DTSTART:20240310T080000
END:DAYLIGHT
BEGIN:STANDARD
TZOFFSETFROM:-0500
TZOFFSETTO:-0600
TZNAME:CST
DTSTART:20241103T070000
END:STANDARD
BEGIN:DAYLIGHT
TZOFFSETFROM:-0600
TZOFFSETTO:-0500
TZNAME:CDT
DTSTART:20250309T080000
END:DAYLIGHT
BEGIN:STANDARD
TZOFFSETFROM:-0500
TZOFFSETTO:-0600
TZNAME:CST
DTSTART:20251102T070000
END:STANDARD
END:VTIMEZONE
BEGIN:VEVENT
DTSTART;VALUE=DATE:20221119
DTEND;VALUE=DATE:20221120
DTSTAMP:20260419T184611
CREATED:20220912T181915Z
LAST-MODIFIED:20220912T182124Z
UID:3212-1668816000-1668902399@inspiringhands.org
SUMMARY:A&M Game vs UMass
DESCRIPTION:
URL:https://inspiringhands.org/event/am-game-vs-umass/
LOCATION:Kyle Field\, 756 Houston St\, College Station\, Texas\, 77843
END:VEVENT
BEGIN:VEVENT
DTSTART;VALUE=DATE:20221129
DTEND;VALUE=DATE:20221130
DTSTAMP:20260419T184611
CREATED:20220912T182005Z
LAST-MODIFIED:20220912T182035Z
UID:3214-1669680000-1669766399@inspiringhands.org
SUMMARY:A&M Game vs LSU
DESCRIPTION:
URL:https://inspiringhands.org/event/am-game-vs-lsu/
LOCATION:Kyle Field\, 756 Houston St\, College Station\, Texas\, 77843
END:VEVENT
BEGIN:VEVENT
DTSTART;TZID=America/Chicago:20240413T140000
DTEND;TZID=America/Chicago:20240413T230000
DTSTAMP:20260419T184611
CREATED:20240308T190319Z
LAST-MODIFIED:20240317T151320Z
UID:3272-1713016800-1713049200@inspiringhands.org
SUMMARY:Bareback Bar Icehouse Fun Fest Benefiting InspiringHands - Come Together 2024
DESCRIPTION:Bareback Bar Icehouse Fun Fest Benefiting InspiringHands – Come Together 2024\nEvent Link: https://outhousetickets.com/Event/23228-Spazmatics_Bag_of_Donuts_and_More_at_FUNFEST/ \nApril 13th – Start time 2:00 – 11:00pm\n\n\n\n\n$30 – Advance GA ($40 at the door)\n$125 – VIP\n*VIP Includes Private Seating Covered Area\, Private Bar and Restrooms\, Goody Bag\, 2 Drink Tickets\n\n\n\nPlease contact Denise @ denisem@inspiringhands.org (832-434-4052) if interested in SPONSORSHIP LEVEL and details included.\nPLATINUM SPONSOR- $15\,000.00\nGOLD SPONSOR-$7\,000.00\nSILVER SPONSOR-$5\,000.00\nBRONZE SPONSOR-$2\,500.00  \n \n\nWill have foodtrucks and vendor setups!\nAuctions and Bake sale. \n \nInspiring HANDS -“Through hands that serve and hearts that care”\n\n\nPLEASE NOTE: All events are Rain-or-Shine. With the exception of complete event cancellation\, no refunds will be issued. Refunds due to personal unforeseen circumstances may be covered if the request meets limited conditions and Refund Protection was purchased. Please select or de-select Refund Protection at checkout. Refund Protection Fees are NON-Refundable. See OuthouseTickets Refund FAQ Page for more details. \n@outhousetickets
URL:https://inspiringhands.org/event/bareback-bar-icehouse-fun-fest-benefiting-inspiringhands-come-together-2024/
LOCATION:Bareback Bar\, 19940 Kuykendahl Rd\, Spring\, 77379\, United States
ORGANIZER;CN="Inspiring HANDS":MAILTO:info@inspiringhands.org
END:VEVENT
END:VCALENDAR