BEGIN:VCALENDAR
VERSION:2.0
PRODID:-//Inspiring Hands - ECPv6.15.11//NONSGML v1.0//EN
CALSCALE:GREGORIAN
METHOD:PUBLISH
X-ORIGINAL-URL:https://inspiringhands.org
X-WR-CALDESC:Events for Inspiring Hands
REFRESH-INTERVAL;VALUE=DURATION:PT1H
X-Robots-Tag:noindex
X-PUBLISHED-TTL:PT1H
BEGIN:VTIMEZONE
TZID:America/Chicago
BEGIN:DAYLIGHT
TZOFFSETFROM:-0600
TZOFFSETTO:-0500
TZNAME:CDT
DTSTART:20170312T080000
END:DAYLIGHT
BEGIN:STANDARD
TZOFFSETFROM:-0500
TZOFFSETTO:-0600
TZNAME:CST
DTSTART:20171105T070000
END:STANDARD
BEGIN:DAYLIGHT
TZOFFSETFROM:-0600
TZOFFSETTO:-0500
TZNAME:CDT
DTSTART:20180311T080000
END:DAYLIGHT
BEGIN:STANDARD
TZOFFSETFROM:-0500
TZOFFSETTO:-0600
TZNAME:CST
DTSTART:20181104T070000
END:STANDARD
BEGIN:DAYLIGHT
TZOFFSETFROM:-0600
TZOFFSETTO:-0500
TZNAME:CDT
DTSTART:20190310T080000
END:DAYLIGHT
BEGIN:STANDARD
TZOFFSETFROM:-0500
TZOFFSETTO:-0600
TZNAME:CST
DTSTART:20191103T070000
END:STANDARD
BEGIN:DAYLIGHT
TZOFFSETFROM:-0600
TZOFFSETTO:-0500
TZNAME:CDT
DTSTART:20200308T080000
END:DAYLIGHT
BEGIN:STANDARD
TZOFFSETFROM:-0500
TZOFFSETTO:-0600
TZNAME:CST
DTSTART:20201101T070000
END:STANDARD
BEGIN:DAYLIGHT
TZOFFSETFROM:-0600
TZOFFSETTO:-0500
TZNAME:CDT
DTSTART:20210314T080000
END:DAYLIGHT
BEGIN:STANDARD
TZOFFSETFROM:-0500
TZOFFSETTO:-0600
TZNAME:CST
DTSTART:20211107T070000
END:STANDARD
BEGIN:DAYLIGHT
TZOFFSETFROM:-0600
TZOFFSETTO:-0500
TZNAME:CDT
DTSTART:20220313T080000
END:DAYLIGHT
BEGIN:STANDARD
TZOFFSETFROM:-0500
TZOFFSETTO:-0600
TZNAME:CST
DTSTART:20221106T070000
END:STANDARD
BEGIN:DAYLIGHT
TZOFFSETFROM:-0600
TZOFFSETTO:-0500
TZNAME:CDT
DTSTART:20230312T080000
END:DAYLIGHT
BEGIN:STANDARD
TZOFFSETFROM:-0500
TZOFFSETTO:-0600
TZNAME:CST
DTSTART:20231105T070000
END:STANDARD
BEGIN:DAYLIGHT
TZOFFSETFROM:-0600
TZOFFSETTO:-0500
TZNAME:CDT
DTSTART:20240310T080000
END:DAYLIGHT
BEGIN:STANDARD
TZOFFSETFROM:-0500
TZOFFSETTO:-0600
TZNAME:CST
DTSTART:20241103T070000
END:STANDARD
BEGIN:DAYLIGHT
TZOFFSETFROM:-0600
TZOFFSETTO:-0500
TZNAME:CDT
DTSTART:20250309T080000
END:DAYLIGHT
BEGIN:STANDARD
TZOFFSETFROM:-0500
TZOFFSETTO:-0600
TZNAME:CST
DTSTART:20251102T070000
END:STANDARD
END:VTIMEZONE
BEGIN:VEVENT
DTSTART;TZID=America/Chicago:20181115T080000
DTEND;TZID=America/Chicago:20181215T170000
DTSTAMP:20260419T164837
CREATED:20180220T041327Z
LAST-MODIFIED:20180220T041327Z
UID:2684-1542268800-1544893200@inspiringhands.org
SUMMARY:Annual Holiday Wishes Drive
DESCRIPTION:Join us for the annual Holiday Wishes Drive\nNovember 15-December 15\, 2018
URL:https://inspiringhands.org/event/annual-holiday-wishes-drive/
ATTACH;FMTTYPE=image/jpeg:https://inspiringhands.org/wp-content/uploads/2018/02/Holiday-Drive-15.jpg
END:VEVENT
BEGIN:VEVENT
DTSTART;VALUE=DATE:20190701
DTEND;VALUE=DATE:20190731
DTSTAMP:20260419T164837
CREATED:20190611T162728Z
LAST-MODIFIED:20190621T062439Z
UID:2854-1561939200-1564531199@inspiringhands.org
SUMMARY:2019 Back to School Drive
DESCRIPTION:Inspiring HANDS will be hosting it’s annual back to school drive beginning July 1-30\, 2019\, benefiting a local Title I elementary school. \nWe are currently looking for businesses to parter with us as collection centers for donors to drop off backpacks filled with school supplies. \nIf you are interested in assisting with our efforts\, please contact us by June 28th\, 2019. \nYou can submit you company logo to StaceyM@InspiringHANDS.org
URL:https://inspiringhands.org/event/2019-back-to-school-drive/
ATTACH;FMTTYPE=image/png:https://inspiringhands.org/wp-content/uploads/2019/06/Screen-Shot-2019-06-21-at-1.11.40-AM.png
END:VEVENT
BEGIN:VEVENT
DTSTART;TZID=America/Chicago:20191019T140000
DTEND;TZID=America/Chicago:20191019T210000
DTSTAMP:20260419T164837
CREATED:20190619T211931Z
LAST-MODIFIED:20190815T063208Z
UID:2865-1571493600-1571518800@inspiringhands.org
SUMMARY:Come Together 2019 Molly's Tomball
DESCRIPTION:Save the date to Come Together with Inspiring HANDS for a Chili & Gumbo Cook-Off at Molly’s Pub in Tomball! \nJoin us for LIVE MUSIC by Sierra Gant /Soulshine /Mike Donnell\, live DJ\, CHILI & GUMBO COOK-OFF\, Silent & Live AUCTIONS\, Face Painting\, Activities for the Kids and much more! \nHalloween costumes are encouraged – this is a family friendly event! \nSaturday\, October 19\, 2019 \nGeneral Admission is FREE!  Cook-off tickets will be available at the event. \nPublic Tasting 4-6:30pm \nAwards/Live Auction 7pm \nLive Music from 2-9pm \nGet your favorite recipes together and form a team for the cook-off!\n$50 for your first recipe entry/ $75 for 2 entries \nNot a cook?  We’d love to see you and your family to simply enjoy the music\, food and join in on the fun! \nProceeds benefiting the Inspiring HANDS scholarship program assisting individuals with special needs to attend equestrian therapy and special needs camps! \nFOR RAFFLE TICKETS AND UNDERWRITING OPPORTUNITIES CLICK HERE
URL:https://inspiringhands.org/event/mollys19/
LOCATION:Molly’s Pub\, 28107 Hwy 249\, Tomball\, TX\, 77377\, United States
ATTACH;FMTTYPE=image/png:https://inspiringhands.org/wp-content/uploads/2019/06/Screen-Shot-2019-08-15-at-1.27.28-AM.png
END:VEVENT
BEGIN:VEVENT
DTSTART;TZID=America/Chicago:20200502T180000
DTEND;TZID=America/Chicago:20200502T230000
DTSTAMP:20260419T164837
CREATED:20200229T082306Z
LAST-MODIFIED:20200310T215552Z
UID:3027-1588442400-1588460400@inspiringhands.org
SUMMARY:Come Together Benefit Concert 2020
DESCRIPTION:Join us at Main Street Crossing for a Nightbird : Fleetwood Mac and Stevie Nicks Tribute Band benefit concert!\nProceeds will help to fund the Inspiring HANDS\, Inc. scholarship program!Get your tickets today! They are selling FAST!Your reserved ticket will include a seat at the concert as well as a plated meal and 2 drink tickets!\nVIP & Premium options are also available.Click HERE to get your tickets! \nLIVE & SILENT AUCTIONS\n50/50 Raffles\nPlated Meal with 2 drink tickets \nThis is an ages 21 and over event \nDoors open – 6:00pm\nDinner Served – 6:45pm\nProgram/Live Music – 7:00pm \nEach year Inspiring HANDS\, Inc. provides up to $20\,000.00 in Campership or Ridership Awards to qualified applicants who are approved by the selection committee. Awards offer children and adults with special needs (autism spectrum disorder\, down syndrome\, developmental delays\, cerebral palsy\, Prader-Willi\, etc…) an opportunity that they otherwise may not be able to afford. Our scholarships help in building self confidence\, independence\, life skills\, lasting memories\, friendships\, and so much more. \nWhom do we serve? \nInspiring HANDS\, Inc. serves individuals of all ages who reside in Harris\, Montgomery\, Liberty\, Chambers\, Galveston\, Brazoria\, Fort Bend\, and Waller County\, Texas who face financial and special needs. \nOur partners are non-profit camps and centers within the State of Texas. \nInspiring HANDS is operated 100% by local volunteers allowing proceeds to directly support the scholarship program. Participation in our events is critical to the continued success of the scholarship program.
URL:https://inspiringhands.org/event/come-together-benefit-concert-2020/
LOCATION:Main Street Crossing\, 111 W. Main St\, Tomball\, TX\, United States
ATTACH;FMTTYPE=image/jpeg:https://inspiringhands.org/wp-content/uploads/2020/02/NIghtbird.jpg
ORGANIZER;CN="Main Street Crossing":MAILTO:lisa@truetexasmusic.com
END:VEVENT
BEGIN:VEVENT
DTSTART;TZID=America/Chicago:20200502T180000
DTEND;TZID=America/Chicago:20200502T230000
DTSTAMP:20260419T164837
CREATED:20200310T094537Z
LAST-MODIFIED:20200310T214435Z
UID:3036-1588442400-1588460400@inspiringhands.org
SUMMARY:CT2020
DESCRIPTION:
URL:https://inspiringhands.org/event/ct2020/
LOCATION:Main Street Crossing\, 111 W. Main St\, Tomball\, TX\, United States
ATTACH;FMTTYPE=image/jpeg:https://inspiringhands.org/wp-content/uploads/2020/03/IMG_3999.jpg
ORGANIZER;CN="Inspiring HANDS  Inc":MAILTO:info@inspiringhands.org
END:VEVENT
BEGIN:VEVENT
DTSTART;TZID=America/Chicago:20211016T150000
DTEND;TZID=America/Chicago:20211016T210000
DTSTAMP:20260419T164837
CREATED:20210914T215533Z
LAST-MODIFIED:20210914T221550Z
UID:3172-1634396400-1634418000@inspiringhands.org
SUMMARY:Come Together Annual Fundraising CONCERT Event at Molly's Pub Tomball - Benefitting Inspiring HANDS
DESCRIPTION:Join us once again for our Annual Come Together Concert Fundraiser Event at Molly’s Pub Tomball! \nIt will be a fun filled evening of Music\, Costume Contest\, Live\, Silent/Dessert Auctions\, Face Painting\, Food and more! \nLive Music Performances by:\n TRENT COWIE\n SUSAN HICKMAN\n JERRETT ZOCH\n REAGAN QUINN \nThis is a FREE event! \n3pm until 9pm – Live Auction at 7:30pm \nChildren/Families are welcome until 8pm. \nSponsorship Opportunities are available! \nGold Level Sponsor = $1\,000 donation\nSilver Level Sponsor = $500 donation\nBronze Level Sponsor = $250 donation \n \nSponsors Needed! \nWith a recurring donation of only $2.50 per day for 12 months\, you can fund a full scholarship! \nClick the link below to become a sponsor today! \nhttps://inspiringhands.square.site \nAll donations welcome\, no donation is too small! \n100% of the proceeds from this event will go directly to our Scholarship Program allowing those with Special Needs to attend Equestrian Therapy and Special Needs Camps! \nWe can’t do this without you! \nHope to see you there! \nSusan Hickman \n \nJerrett Zoch \n \nTrent Cowie \n \nReagan Quinn \n \n  \nSubmit form below for more information: \nError: Contact form not found.
URL:https://inspiringhands.org/event/come-together-annual-fundraising-concert-event-at-mollys-pub-tomball-benefitting-inspiring-hands/
LOCATION:Molly’s Pub\, 28107 Hwy 249\, Tomball\, TX\, 77377\, United States
CATEGORIES:Concert Event,Fundraising,Inspiring Drives
ATTACH;FMTTYPE=image/jpeg:https://inspiringhands.org/wp-content/uploads/2021/09/Come-Together-2021-Standard-8.5-x-11.jpg
ORGANIZER;CN="Inspiring HANDS%2C Inc.":MAILTO:info@inspiringhands.org
END:VEVENT
BEGIN:VEVENT
DTSTART;VALUE=DATE:20221029
DTEND;VALUE=DATE:20221030
DTSTAMP:20260419T164837
CREATED:20220912T181302Z
LAST-MODIFIED:20220912T182207Z
UID:3206-1667001600-1667087999@inspiringhands.org
SUMMARY:A&M Game vs Ole Miss
DESCRIPTION:
URL:https://inspiringhands.org/event/kyle-field-am-game-vs-ole-miss/
LOCATION:Kyle Field\, 756 Houston St\, College Station\, Texas\, 77843
END:VEVENT
BEGIN:VEVENT
DTSTART;VALUE=DATE:20221105
DTEND;VALUE=DATE:20221106
DTSTAMP:20260419T164837
CREATED:20220912T181552Z
LAST-MODIFIED:20220912T182145Z
UID:3208-1667606400-1667692799@inspiringhands.org
SUMMARY:A&M Game vs Florida
DESCRIPTION:
URL:https://inspiringhands.org/event/am-game-vs-florida/
LOCATION:Kyle Field\, 756 Houston St\, College Station\, Texas\, 77843
END:VEVENT
BEGIN:VEVENT
DTSTART;VALUE=DATE:20221119
DTEND;VALUE=DATE:20221120
DTSTAMP:20260419T164837
CREATED:20220912T181915Z
LAST-MODIFIED:20220912T182124Z
UID:3212-1668816000-1668902399@inspiringhands.org
SUMMARY:A&M Game vs UMass
DESCRIPTION:
URL:https://inspiringhands.org/event/am-game-vs-umass/
LOCATION:Kyle Field\, 756 Houston St\, College Station\, Texas\, 77843
END:VEVENT
BEGIN:VEVENT
DTSTART;VALUE=DATE:20221129
DTEND;VALUE=DATE:20221130
DTSTAMP:20260419T164837
CREATED:20220912T182005Z
LAST-MODIFIED:20220912T182035Z
UID:3214-1669680000-1669766399@inspiringhands.org
SUMMARY:A&M Game vs LSU
DESCRIPTION:
URL:https://inspiringhands.org/event/am-game-vs-lsu/
LOCATION:Kyle Field\, 756 Houston St\, College Station\, Texas\, 77843
END:VEVENT
BEGIN:VEVENT
DTSTART;TZID=America/Chicago:20240413T140000
DTEND;TZID=America/Chicago:20240413T230000
DTSTAMP:20260419T164837
CREATED:20240308T190319Z
LAST-MODIFIED:20240317T151320Z
UID:3272-1713016800-1713049200@inspiringhands.org
SUMMARY:Bareback Bar Icehouse Fun Fest Benefiting InspiringHands - Come Together 2024
DESCRIPTION:Bareback Bar Icehouse Fun Fest Benefiting InspiringHands – Come Together 2024\nEvent Link: https://outhousetickets.com/Event/23228-Spazmatics_Bag_of_Donuts_and_More_at_FUNFEST/ \nApril 13th – Start time 2:00 – 11:00pm\n\n\n\n\n$30 – Advance GA ($40 at the door)\n$125 – VIP\n*VIP Includes Private Seating Covered Area\, Private Bar and Restrooms\, Goody Bag\, 2 Drink Tickets\n\n\n\nPlease contact Denise @ denisem@inspiringhands.org (832-434-4052) if interested in SPONSORSHIP LEVEL and details included.\nPLATINUM SPONSOR- $15\,000.00\nGOLD SPONSOR-$7\,000.00\nSILVER SPONSOR-$5\,000.00\nBRONZE SPONSOR-$2\,500.00  \n \n\nWill have foodtrucks and vendor setups!\nAuctions and Bake sale. \n \nInspiring HANDS -“Through hands that serve and hearts that care”\n\n\nPLEASE NOTE: All events are Rain-or-Shine. With the exception of complete event cancellation\, no refunds will be issued. Refunds due to personal unforeseen circumstances may be covered if the request meets limited conditions and Refund Protection was purchased. Please select or de-select Refund Protection at checkout. Refund Protection Fees are NON-Refundable. See OuthouseTickets Refund FAQ Page for more details. \n@outhousetickets
URL:https://inspiringhands.org/event/bareback-bar-icehouse-fun-fest-benefiting-inspiringhands-come-together-2024/
LOCATION:Bareback Bar\, 19940 Kuykendahl Rd\, Spring\, 77379\, United States
ORGANIZER;CN="Inspiring HANDS":MAILTO:info@inspiringhands.org
END:VEVENT
END:VCALENDAR