BEGIN:VCALENDAR
VERSION:2.0
PRODID:-//Inspiring Hands - ECPv6.15.11//NONSGML v1.0//EN
CALSCALE:GREGORIAN
METHOD:PUBLISH
X-WR-CALNAME:Inspiring Hands
X-ORIGINAL-URL:https://inspiringhands.org
X-WR-CALDESC:Events for Inspiring Hands
REFRESH-INTERVAL;VALUE=DURATION:PT1H
X-Robots-Tag:noindex
X-PUBLISHED-TTL:PT1H
BEGIN:VTIMEZONE
TZID:America/Chicago
BEGIN:DAYLIGHT
TZOFFSETFROM:-0600
TZOFFSETTO:-0500
TZNAME:CDT
DTSTART:20140309T080000
END:DAYLIGHT
BEGIN:STANDARD
TZOFFSETFROM:-0500
TZOFFSETTO:-0600
TZNAME:CST
DTSTART:20141102T070000
END:STANDARD
BEGIN:DAYLIGHT
TZOFFSETFROM:-0600
TZOFFSETTO:-0500
TZNAME:CDT
DTSTART:20150308T080000
END:DAYLIGHT
BEGIN:STANDARD
TZOFFSETFROM:-0500
TZOFFSETTO:-0600
TZNAME:CST
DTSTART:20151101T070000
END:STANDARD
BEGIN:DAYLIGHT
TZOFFSETFROM:-0600
TZOFFSETTO:-0500
TZNAME:CDT
DTSTART:20160313T080000
END:DAYLIGHT
BEGIN:STANDARD
TZOFFSETFROM:-0500
TZOFFSETTO:-0600
TZNAME:CST
DTSTART:20161106T070000
END:STANDARD
END:VTIMEZONE
BEGIN:VEVENT
DTSTART;TZID=America/Chicago:20150402T133000
DTEND;TZID=America/Chicago:20150402T210000
DTSTAMP:20260419T144745
CREATED:20150116T083011Z
LAST-MODIFIED:20150122T195110Z
UID:914-1427981400-1428008400@inspiringhands.org
SUMMARY:Charity Golf Tournament at Houston
DESCRIPTION:Charity Golf Tournament at Houston National Golf Course for more info on how you can help via volunteering\, sponsorship or a donation email info@inspiringhands.org
URL:https://inspiringhands.org/event/charity-golf-tournament-at-houston/
LOCATION:Houston National Golf Course\, 16500 Houston National Boulevard\, Houston\, TX\, 77095\, United States
ORGANIZER;CN="Inspiring HANDS Inc":MAILTO:info@inspiringhands.org
END:VEVENT
BEGIN:VEVENT
DTSTART;VALUE=DATE:20150315
DTEND;VALUE=DATE:20150316
DTSTAMP:20260419T144745
CREATED:20150120T200746Z
LAST-MODIFIED:20150120T204242Z
UID:948-1426377600-1426463999@inspiringhands.org
SUMMARY:Recipients of the Inspiring YOUth – Prom Program 2015 will be notified.
DESCRIPTION:
URL:https://inspiringhands.org/event/recipients-of-the-inspiring-youth-prom-program-2015-will-be-notified/
END:VEVENT
BEGIN:VEVENT
DTSTART;VALUE=DATE:20150301
DTEND;VALUE=DATE:20150302
DTSTAMP:20260419T144745
CREATED:20150120T200613Z
LAST-MODIFIED:20150204T000517Z
UID:947-1425168000-1425254399@inspiringhands.org
SUMMARY:Deadline for Entry into the Inspiring YOUth – Prom Program 2015.
DESCRIPTION:CLICK HERE FOR: Entry Form for Inspiring YOUTH Prom 2015
URL:https://inspiringhands.org/event/deadline-for-entry-into-the-inspiring-youth-prom-program-2015/
LOCATION:Unnamed Venue
ORGANIZER;CN="Inspiring HANDS  Inc":MAILTO:info@inspiringhands.org
END:VEVENT
BEGIN:VEVENT
DTSTART;VALUE=DATE:20150301
DTEND;VALUE=DATE:20150302
DTSTAMP:20260419T144745
CREATED:20150120T200500Z
LAST-MODIFIED:20150122T195744Z
UID:946-1425168000-1425254399@inspiringhands.org
SUMMARY:Deadline for Campership requests
DESCRIPTION:
URL:https://inspiringhands.org/event/deadline-for-campership-requests/
LOCATION:Unnamed Venue
ORGANIZER;CN="Inspiring HANDS":MAILTO:info@inspiringhands.org
END:VEVENT
BEGIN:VEVENT
DTSTART;TZID=America/Chicago:20150228T180000
DTEND;TZID=America/Chicago:20150228T210000
DTSTAMP:20260419T144745
CREATED:20150205T164424Z
LAST-MODIFIED:20150205T164424Z
UID:1066-1425146400-1425157200@inspiringhands.org
SUMMARY:Come Grow With Us! Benefit for The Tomball Pregnancy Center
DESCRIPTION:Space if limited so reserve a table soon. \n 
URL:https://inspiringhands.org/event/come-grow-with-us-benefit-for-the-tomball-pregnancy-center/
LOCATION:Tomball Pregnancy Center\, 990 Vilage Square Dr Ste Q\, Tomball\, TX\, 77375\, United States
END:VEVENT
BEGIN:VEVENT
DTSTART;TZID=America/Chicago:20150207T120000
DTEND;TZID=America/Chicago:20150207T160000
DTSTAMP:20260419T144745
CREATED:20150205T164827Z
LAST-MODIFIED:20150205T164827Z
UID:1068-1423310400-1423324800@inspiringhands.org
SUMMARY:Volunteers Needed for Work Day for The Giving Gown Foundation
DESCRIPTION:Saturday\, Feb. 7\, is our WORKDAY! 12:00-4:00 at Bammel Church in the parking lot by the Teen Center (you’ll see us). This is a great way to get some volunteer hours in. Teens are welcome\, and we also encourage bringing husbands\, boyfriends\, and sons to help with heavy lifting! \nWe will be bringing dresses out\, organizing sizes\, and getting our inventory ready for Boutique Day. Come help!
URL:https://inspiringhands.org/event/volunteers-needed-for-work-day-for-the-giving-gown-foundation/
LOCATION:Bammel Church of Christ\, 2700 FM 1960 W\, Houston\, 77068
END:VEVENT
BEGIN:VEVENT
DTSTART;TZID=America/Chicago:20150131T173000
DTEND;TZID=America/Chicago:20150131T210000
DTSTAMP:20260419T144745
CREATED:20150120T195753Z
LAST-MODIFIED:20150122T193502Z
UID:945-1422725400-1422738000@inspiringhands.org
SUMMARY:2015 Kickoff Celebration
DESCRIPTION:
URL:https://inspiringhands.org/event/2015-kickoff-celebration/
LOCATION:Wine Styles the Vintage\, 10300 Louetta Rd \, Houston\, 77070\, United States
ORGANIZER;CN="Inspiring HANDS%2C Inc.":MAILTO:info@inspiringhands.org
END:VEVENT
END:VCALENDAR