BEGIN:VCALENDAR
VERSION:2.0
PRODID:-//Inspiring Hands - ECPv6.15.11//NONSGML v1.0//EN
CALSCALE:GREGORIAN
METHOD:PUBLISH
X-WR-CALNAME:Inspiring Hands
X-ORIGINAL-URL:https://inspiringhands.org
X-WR-CALDESC:Events for Inspiring Hands
REFRESH-INTERVAL;VALUE=DURATION:PT1H
X-Robots-Tag:noindex
X-PUBLISHED-TTL:PT1H
BEGIN:VTIMEZONE
TZID:America/Chicago
BEGIN:DAYLIGHT
TZOFFSETFROM:-0600
TZOFFSETTO:-0500
TZNAME:CDT
DTSTART:20140309T080000
END:DAYLIGHT
BEGIN:STANDARD
TZOFFSETFROM:-0500
TZOFFSETTO:-0600
TZNAME:CST
DTSTART:20141102T070000
END:STANDARD
BEGIN:DAYLIGHT
TZOFFSETFROM:-0600
TZOFFSETTO:-0500
TZNAME:CDT
DTSTART:20150308T080000
END:DAYLIGHT
BEGIN:STANDARD
TZOFFSETFROM:-0500
TZOFFSETTO:-0600
TZNAME:CST
DTSTART:20151101T070000
END:STANDARD
BEGIN:DAYLIGHT
TZOFFSETFROM:-0600
TZOFFSETTO:-0500
TZNAME:CDT
DTSTART:20160313T080000
END:DAYLIGHT
BEGIN:STANDARD
TZOFFSETFROM:-0500
TZOFFSETTO:-0600
TZNAME:CST
DTSTART:20161106T070000
END:STANDARD
END:VTIMEZONE
BEGIN:VEVENT
DTSTART;TZID=America/Chicago:20151018T110000
DTEND;TZID=America/Chicago:20151018T150000
DTSTAMP:20260419T131708
CREATED:20150921T175633Z
LAST-MODIFIED:20150921T175745Z
UID:1563-1445166000-1445180400@inspiringhands.org
SUMMARY:Volunteer Houston 2015 Volunteer Fair
DESCRIPTION:Volunteer Houston – CONNECTING PEOPLE WITH THEIR PASSIONS\nOctober 18th\, 2015\n11am – 3pm \nSam Houston Park – Downtown Houston \nPurpose of the Event:\n\nTo celebrate Houston volunteering efforts and provide an opportunity for 50 nonprofits to market their organizations and recruit new volunteers\, and promote volunteerism in the Houston region. \n\nActivities:\n\n\nVolunteer Fair: 50 nonprofit organizations will have booths at the event where they will recruit new volunteers and conduct small hands on service projects\nLarge Service Project: Attendees will create holiday cards to benefit the Volunteer Houston Holiday Project\nGive Aways:\nLive Entertainment: \nKid’s Zone: Kid friendly activities such as face painting\, balloon animals\, bounce house and carnival games.\nFood: Carnival food will be available for purchase and free cake!
URL:https://inspiringhands.org/event/volunteer-houston-2015-volunteer-fair/
LOCATION:Sam Houston Park\, Houston\, TX\, United States
ATTACH;FMTTYPE=image/png:https://inspiringhands.org/wp-content/uploads/2015/09/VH_LOGO_WITHBADGE40YEARS-300x284.png
END:VEVENT
BEGIN:VEVENT
DTSTART;TZID=America/Chicago:20151012T120000
DTEND;TZID=America/Chicago:20151012T180000
DTSTAMP:20260419T131708
CREATED:20150927T210955Z
LAST-MODIFIED:20150927T210955Z
UID:1582-1444651200-1444672800@inspiringhands.org
SUMMARY:Camp Bethesda Golf Tournament
DESCRIPTION:October 12th\, Bethesda is hosting a Golf Tournament at Longwood Golf Course (13300 Longwood Trace   Cypress\, TX) with noon tee time.  They are in need of additional golfers and sponsors.
URL:https://inspiringhands.org/event/camp-bethesda-golf-tournament/
LOCATION:Longwook Golf Course\, 13300 Longwood Trace\, Cypress\, TX\, United States
END:VEVENT
BEGIN:VEVENT
DTSTART;TZID=America/Chicago:20151010T113000
DTEND;TZID=America/Chicago:20151010T140000
DTSTAMP:20260419T131708
CREATED:20150927T210611Z
LAST-MODIFIED:20150927T210727Z
UID:1579-1444476600-1444485600@inspiringhands.org
SUMMARY:Camp Bethesda Midway Event
DESCRIPTION:October 10th\, 11:30-2 Bethesda is needing volunteers for their Picnic on the Midway event.  Please contact Melisa May at 281-796-1968.
URL:https://inspiringhands.org/event/camp-bethesda-midway-event/
END:VEVENT
BEGIN:VEVENT
DTSTART;TZID=America/Chicago:20150927T120000
DTEND;TZID=America/Chicago:20150927T210000
DTSTAMP:20260419T131708
CREATED:20150904T015443Z
LAST-MODIFIED:20150904T015443Z
UID:1341-1443355200-1443387600@inspiringhands.org
SUMMARY:Deputy Darren Goforth Benefit
DESCRIPTION:This is a benefit for the family for the murdered Harris County Sheriff’s Deputy. All proceeds go to the Goforth family. There will be a Fundraiser at Henry Hudson’s Pub on Saturday 9-26-15. The event will then continue Sunday at Masones Saloon located at 11133 Huffmeister Rd. So there is no confusion both Fundraisers are so we can reach out to as many of the citizens as possible to assist this family in the days ahead. Please attend one or both events to show support to Law Enforcement and meet some great people.
URL:https://inspiringhands.org/event/deputy-darren-goforth-benefit/
LOCATION:Masone’s\, 11133 Huffmeister Rd\, Houston\, TX\, 77065\, United States
END:VEVENT
BEGIN:VEVENT
DTSTART;TZID=America/Chicago:20150926T110000
DTEND;TZID=America/Chicago:20150926T170000
DTSTAMP:20260419T131708
CREATED:20150904T020719Z
LAST-MODIFIED:20150904T020719Z
UID:1343-1443265200-1443286800@inspiringhands.org
SUMMARY:Benefit for the Goforth Family
DESCRIPTION:
URL:https://inspiringhands.org/event/benefit-for-the-goforth-family/
LOCATION:Henry Hudson’s Pub\, 13300 FM 1960\, Houston\, TX\, 77095\, United States
END:VEVENT
BEGIN:VEVENT
DTSTART;TZID=America/Chicago:20150829T174500
DTEND;TZID=America/Chicago:20150829T203000
DTSTAMP:20260419T131708
CREATED:20150810T183546Z
LAST-MODIFIED:20150810T183546Z
UID:1300-1440870300-1440880200@inspiringhands.org
SUMMARY:The Fairytale Fundraiser
DESCRIPTION:“Bring your children and join the Snow Sisters and their friends for a fun-filled night which includes singing\, dancing\, superhero training\, interactive story times\, and more! Characters will visit each table throughout the presentation and performances. This event is a fundraiser for The Fairytale Foundation and Camp Blessing\, but the activities are centered around children’s entertainment!”\nThe Fairytale Foundation the kids and enjoy The “Snow Sisters” and friends. Photos from 5:45-6:30. Show from 6:30-8:30. Dinner can be purchased at the event.
URL:https://inspiringhands.org/event/the-fairytale-fundraiser/
LOCATION:Main Street Crossing\, 111 W. Main St\, Tomball\, TX\, United States
ORGANIZER;CN="Main Street Crossing":MAILTO:lisa@truetexasmusic.com
END:VEVENT
BEGIN:VEVENT
DTSTART;TZID=America/Chicago:20150612T090000
DTEND;TZID=America/Chicago:20150613T220000
DTSTAMP:20260419T131708
CREATED:20150326T170519Z
LAST-MODIFIED:20150326T170519Z
UID:1220-1434099600-1434232800@inspiringhands.org
SUMMARY:Joust Fest Texas benefiting SIRE Therapeutic Horemanship
DESCRIPTION:
URL:https://inspiringhands.org/event/joust-fest-texas-benefiting-sire-therapeutic-horemanship/
LOCATION:Great Southwest Equestrian Center Katy\, 2501 S Mason Rd\, Katy\, TX\, 77450\, United States
END:VEVENT
BEGIN:VEVENT
DTSTART;TZID=America/Chicago:20150530T080000
DTEND;TZID=America/Chicago:20150530T140000
DTSTAMP:20260419T131708
CREATED:20150326T171046Z
LAST-MODIFIED:20150326T171046Z
UID:1222-1432972800-1432994400@inspiringhands.org
SUMMARY:SIRE Volunteer Training
DESCRIPTION:Training will be approximately 8 a.m. to 2 p.m.\, depending upon site and volunteer position. Contact volunteer coordinators for more information. \nHockley (281) 356-7588 \nSpring (281) 353-6160 \nFort Bend (281) 344-4308 \nhttp://sire-htec.org/signup-online/
URL:https://inspiringhands.org/event/sire-volunteer-training/
LOCATION:SIRE Therapeutic Horsemanship\, TX
END:VEVENT
BEGIN:VEVENT
DTSTART;VALUE=DATE:20150504
DTEND;VALUE=DATE:20150505
DTSTAMP:20260419T131708
CREATED:20150412T181514Z
LAST-MODIFIED:20150413T134841Z
UID:1237-1430697600-1430783999@inspiringhands.org
SUMMARY:The 3rd Annual Joe Schmid Memorial Golf Tournament Benefiting Camp Blessing Texas May 4\, 2015 Pine Forest Country Club Houston\, TX
DESCRIPTION:Camp Blessing Texas is celebrating their 10th summer of camp in 2015. Thousands of Campers\, volunteers and parents have been uniquely impacted with encouragement\, love\, and new understanding of God’s compassion for all of us. Join the team by showing your support! \nGolf Tournament Details: \nMonday\, May 4\, 2015 Pine Forest Country Club 18003 Clay Rd. in NW Houston \n9:00 am- Check-In\, Driving Range Open\, Raffle Tickets on Sale\, Free Gift \n11:00 am- Shotgun start\, lunch & gourmet snacks provided during the round \n4:00 pm- Early Dinner\, Raffle winners announced\, live auction \nGolf Flyer
URL:https://inspiringhands.org/event/te-3rd-annual-joe-schmid-memorial-golf-tournament-benefiting-camp-blessing-texas-may-4-2015-pine-forest-coun-ty-club-hous-tn-tx/
END:VEVENT
BEGIN:VEVENT
DTSTART;VALUE=DATE:20150501
DTEND;VALUE=DATE:20150502
DTSTAMP:20260419T131708
CREATED:20150120T200953Z
LAST-MODIFIED:20150120T204224Z
UID:950-1430438400-1430524799@inspiringhands.org
SUMMARY:Recipients of the 2015 Campership Awards will be notified.
DESCRIPTION:
URL:https://inspiringhands.org/event/recipients-of-the-2015-campership-awards-will-be-notified/
END:VEVENT
BEGIN:VEVENT
DTSTART;TZID=America/Chicago:20150418T100000
DTEND;TZID=America/Chicago:20150418T140000
DTSTAMP:20260419T131708
CREATED:20150327T175644Z
LAST-MODIFIED:20150327T175644Z
UID:1231-1429351200-1429365600@inspiringhands.org
SUMMARY:A SPECIAL AFFAIR - Public Resource Fair
DESCRIPTION:The public is invited to meet with different organizations that provide services for children and adults with disabilities \nChildren of all abilities welcome!\nFun zone available with provided supervision. \nSupport Groups\nTherapeutic Horseback\nRiding\nSummer Camps\nMartial Arts\nAthletic Groups\nLegal Assistance\nSchool Programs\nFaith Groups\nConferences\nRehabilitation Programs\nBoy/Girl Scout Troops\nAnd much more
URL:https://inspiringhands.org/event/a-special-affair-public-resource-fair/
LOCATION:Grace View Baptist Church\, 25510 SH 249\, Tomball\, TX\, 77375
END:VEVENT
BEGIN:VEVENT
DTSTART;TZID=America/Chicago:20150411T080000
DTEND;TZID=America/Chicago:20150411T200000
DTSTAMP:20260419T131708
CREATED:20150121T003944Z
LAST-MODIFIED:20150122T195506Z
UID:955-1428739200-1428782400@inspiringhands.org
SUMMARY:The Giving Gown Foundation’s “Boutique Day”
DESCRIPTION:Sign Up and Volunteer to help at http://www.givinggown.org/boutique-day-2015/volunteer-registration/
URL:https://inspiringhands.org/event/the-giving-gown-foundations-boutique-day-2/
LOCATION:The Giving Gown Foundation\, Houston\, TX\, United States
ORGANIZER;CN="The Giving Gown Foundation":MAILTO:contact@givinggown.org
END:VEVENT
BEGIN:VEVENT
DTSTART;TZID=America/Chicago:20150410T080000
DTEND;TZID=America/Chicago:20150410T200000
DTSTAMP:20260419T131708
CREATED:20150121T003914Z
LAST-MODIFIED:20150122T195433Z
UID:954-1428652800-1428696000@inspiringhands.org
SUMMARY:The Giving Gown Foundation’s “Boutique Day”
DESCRIPTION:Sign Up and Volunteer to help at http://www.givinggown.org/boutique-day-2015/volunteer-registration/
URL:https://inspiringhands.org/event/the-giving-gown-foundations-boutique-day/
LOCATION:The Giving Gown Foundation\, Houston\, TX\, United States
ORGANIZER;CN="The Giving Gown Foundation":MAILTO:contact@givinggown.org
END:VEVENT
BEGIN:VEVENT
DTSTART;TZID=America/Chicago:20150402T133000
DTEND;TZID=America/Chicago:20150402T210000
DTSTAMP:20260419T131708
CREATED:20150116T083011Z
LAST-MODIFIED:20150122T195110Z
UID:914-1427981400-1428008400@inspiringhands.org
SUMMARY:Charity Golf Tournament at Houston
DESCRIPTION:Charity Golf Tournament at Houston National Golf Course for more info on how you can help via volunteering\, sponsorship or a donation email info@inspiringhands.org
URL:https://inspiringhands.org/event/charity-golf-tournament-at-houston/
LOCATION:Houston National Golf Course\, 16500 Houston National Boulevard\, Houston\, TX\, 77095\, United States
ORGANIZER;CN="Inspiring HANDS Inc":MAILTO:info@inspiringhands.org
END:VEVENT
BEGIN:VEVENT
DTSTART;VALUE=DATE:20150315
DTEND;VALUE=DATE:20150316
DTSTAMP:20260419T131708
CREATED:20150120T200746Z
LAST-MODIFIED:20150120T204242Z
UID:948-1426377600-1426463999@inspiringhands.org
SUMMARY:Recipients of the Inspiring YOUth – Prom Program 2015 will be notified.
DESCRIPTION:
URL:https://inspiringhands.org/event/recipients-of-the-inspiring-youth-prom-program-2015-will-be-notified/
END:VEVENT
BEGIN:VEVENT
DTSTART;VALUE=DATE:20150301
DTEND;VALUE=DATE:20150302
DTSTAMP:20260419T131708
CREATED:20150120T200613Z
LAST-MODIFIED:20150204T000517Z
UID:947-1425168000-1425254399@inspiringhands.org
SUMMARY:Deadline for Entry into the Inspiring YOUth – Prom Program 2015.
DESCRIPTION:CLICK HERE FOR: Entry Form for Inspiring YOUTH Prom 2015
URL:https://inspiringhands.org/event/deadline-for-entry-into-the-inspiring-youth-prom-program-2015/
LOCATION:Unnamed Venue
ORGANIZER;CN="Inspiring HANDS  Inc":MAILTO:info@inspiringhands.org
END:VEVENT
BEGIN:VEVENT
DTSTART;VALUE=DATE:20150301
DTEND;VALUE=DATE:20150302
DTSTAMP:20260419T131708
CREATED:20150120T200500Z
LAST-MODIFIED:20150122T195744Z
UID:946-1425168000-1425254399@inspiringhands.org
SUMMARY:Deadline for Campership requests
DESCRIPTION:
URL:https://inspiringhands.org/event/deadline-for-campership-requests/
LOCATION:Unnamed Venue
ORGANIZER;CN="Inspiring HANDS":MAILTO:info@inspiringhands.org
END:VEVENT
BEGIN:VEVENT
DTSTART;TZID=America/Chicago:20150228T180000
DTEND;TZID=America/Chicago:20150228T210000
DTSTAMP:20260419T131708
CREATED:20150205T164424Z
LAST-MODIFIED:20150205T164424Z
UID:1066-1425146400-1425157200@inspiringhands.org
SUMMARY:Come Grow With Us! Benefit for The Tomball Pregnancy Center
DESCRIPTION:Space if limited so reserve a table soon. \n 
URL:https://inspiringhands.org/event/come-grow-with-us-benefit-for-the-tomball-pregnancy-center/
LOCATION:Tomball Pregnancy Center\, 990 Vilage Square Dr Ste Q\, Tomball\, TX\, 77375\, United States
END:VEVENT
BEGIN:VEVENT
DTSTART;TZID=America/Chicago:20150207T120000
DTEND;TZID=America/Chicago:20150207T160000
DTSTAMP:20260419T131709
CREATED:20150205T164827Z
LAST-MODIFIED:20150205T164827Z
UID:1068-1423310400-1423324800@inspiringhands.org
SUMMARY:Volunteers Needed for Work Day for The Giving Gown Foundation
DESCRIPTION:Saturday\, Feb. 7\, is our WORKDAY! 12:00-4:00 at Bammel Church in the parking lot by the Teen Center (you’ll see us). This is a great way to get some volunteer hours in. Teens are welcome\, and we also encourage bringing husbands\, boyfriends\, and sons to help with heavy lifting! \nWe will be bringing dresses out\, organizing sizes\, and getting our inventory ready for Boutique Day. Come help!
URL:https://inspiringhands.org/event/volunteers-needed-for-work-day-for-the-giving-gown-foundation/
LOCATION:Bammel Church of Christ\, 2700 FM 1960 W\, Houston\, 77068
END:VEVENT
BEGIN:VEVENT
DTSTART;TZID=America/Chicago:20150131T173000
DTEND;TZID=America/Chicago:20150131T210000
DTSTAMP:20260419T131709
CREATED:20150120T195753Z
LAST-MODIFIED:20150122T193502Z
UID:945-1422725400-1422738000@inspiringhands.org
SUMMARY:2015 Kickoff Celebration
DESCRIPTION:
URL:https://inspiringhands.org/event/2015-kickoff-celebration/
LOCATION:Wine Styles the Vintage\, 10300 Louetta Rd \, Houston\, 77070\, United States
ORGANIZER;CN="Inspiring HANDS%2C Inc.":MAILTO:info@inspiringhands.org
END:VEVENT
END:VCALENDAR