BEGIN:VCALENDAR
VERSION:2.0
PRODID:-//Inspiring Hands - ECPv6.15.11//NONSGML v1.0//EN
CALSCALE:GREGORIAN
METHOD:PUBLISH
X-WR-CALNAME:Inspiring Hands
X-ORIGINAL-URL:https://inspiringhands.org
X-WR-CALDESC:Events for Inspiring Hands
REFRESH-INTERVAL;VALUE=DURATION:PT1H
X-Robots-Tag:noindex
X-PUBLISHED-TTL:PT1H
BEGIN:VTIMEZONE
TZID:America/Chicago
BEGIN:DAYLIGHT
TZOFFSETFROM:-0600
TZOFFSETTO:-0500
TZNAME:CDT
DTSTART:20170312T080000
END:DAYLIGHT
BEGIN:STANDARD
TZOFFSETFROM:-0500
TZOFFSETTO:-0600
TZNAME:CST
DTSTART:20171105T070000
END:STANDARD
BEGIN:DAYLIGHT
TZOFFSETFROM:-0600
TZOFFSETTO:-0500
TZNAME:CDT
DTSTART:20180311T080000
END:DAYLIGHT
BEGIN:STANDARD
TZOFFSETFROM:-0500
TZOFFSETTO:-0600
TZNAME:CST
DTSTART:20181104T070000
END:STANDARD
BEGIN:DAYLIGHT
TZOFFSETFROM:-0600
TZOFFSETTO:-0500
TZNAME:CDT
DTSTART:20190310T080000
END:DAYLIGHT
BEGIN:STANDARD
TZOFFSETFROM:-0500
TZOFFSETTO:-0600
TZNAME:CST
DTSTART:20191103T070000
END:STANDARD
END:VTIMEZONE
BEGIN:VEVENT
DTSTART;TZID=America/Chicago:20180415T110000
DTEND;TZID=America/Chicago:20180415T180000
DTSTAMP:20260419T144000
CREATED:20170515T223019Z
LAST-MODIFIED:20180219T221652Z
UID:2325-1523790000-1523815200@inspiringhands.org
SUMMARY:IH Annual Cook-Off
DESCRIPTION:
URL:https://inspiringhands.org/event/cookoff18/
LOCATION:Molly’s Pub\, 28107 Hwy 249\, Tomball\, TX\, 77377\, United States
CATEGORIES:Funraising
ATTACH;FMTTYPE=image/jpeg:https://inspiringhands.org/wp-content/uploads/2017/05/IMG_2694.jpg
ORGANIZER;CN="Inspiring HANDS  Inc":MAILTO:info@inspiringhands.org
END:VEVENT
END:VCALENDAR