BEGIN:VCALENDAR
VERSION:2.0
PRODID:-//Inspiring Hands - ECPv6.15.11//NONSGML v1.0//EN
CALSCALE:GREGORIAN
METHOD:PUBLISH
X-ORIGINAL-URL:https://inspiringhands.org
X-WR-CALDESC:Events for Inspiring Hands
REFRESH-INTERVAL;VALUE=DURATION:PT1H
X-Robots-Tag:noindex
X-PUBLISHED-TTL:PT1H
BEGIN:VTIMEZONE
TZID:America/Chicago
BEGIN:DAYLIGHT
TZOFFSETFROM:-0600
TZOFFSETTO:-0500
TZNAME:CDT
DTSTART:20140309T080000
END:DAYLIGHT
BEGIN:STANDARD
TZOFFSETFROM:-0500
TZOFFSETTO:-0600
TZNAME:CST
DTSTART:20141102T070000
END:STANDARD
BEGIN:DAYLIGHT
TZOFFSETFROM:-0600
TZOFFSETTO:-0500
TZNAME:CDT
DTSTART:20150308T080000
END:DAYLIGHT
BEGIN:STANDARD
TZOFFSETFROM:-0500
TZOFFSETTO:-0600
TZNAME:CST
DTSTART:20151101T070000
END:STANDARD
BEGIN:DAYLIGHT
TZOFFSETFROM:-0600
TZOFFSETTO:-0500
TZNAME:CDT
DTSTART:20160313T080000
END:DAYLIGHT
BEGIN:STANDARD
TZOFFSETFROM:-0500
TZOFFSETTO:-0600
TZNAME:CST
DTSTART:20161106T070000
END:STANDARD
BEGIN:DAYLIGHT
TZOFFSETFROM:-0600
TZOFFSETTO:-0500
TZNAME:CDT
DTSTART:20170312T080000
END:DAYLIGHT
BEGIN:STANDARD
TZOFFSETFROM:-0500
TZOFFSETTO:-0600
TZNAME:CST
DTSTART:20171105T070000
END:STANDARD
END:VTIMEZONE
BEGIN:VEVENT
DTSTART;TZID=America/Chicago:20150205T090000
DTEND;TZID=America/Chicago:20160205T160000
DTSTAMP:20260423T091238
CREATED:20150205T165314Z
LAST-MODIFIED:20150205T165314Z
UID:1071-1423126800-1454688000@inspiringhands.org
SUMMARY:Baby Items Needed!
DESCRIPTION:The Tomball Pregnancy Center is always in short supply of baby needs. In particular diapers and wipes. There seems to always be a short supply of diapers in size 5 and 6. If you or someone you know would like to donate you may do so at any time. Donated items can be delivered directly to the center in Tomball.
URL:https://inspiringhands.org/event/baby-items-needed/
LOCATION:Tomball Pregnancy Center\, 990 Vilage Square Dr Ste Q\, Tomball\, TX\, 77375\, United States
END:VEVENT
BEGIN:VEVENT
DTSTART;TZID=America/Chicago:20150326T080000
DTEND;TZID=America/Chicago:20160326T170000
DTSTAMP:20260423T091238
CREATED:20150326T171655Z
LAST-MODIFIED:20160830T221845Z
UID:1225-1427356800-1459011600@inspiringhands.org
SUMMARY:Interested in Volunteering with SIRE?
DESCRIPTION:Please sign up on their website and someone will be in touch with you soon. http://sire-htec.org/signup-online/ \nWhat we do\nSIRE serves adults and children with a wide variety of disabilities including\, but not limited to cerebral palsy\, autism\, Down syndrome\, multiple sclerosis\, developmental delay\, attention deficit/ hyperactivity disorder\, traumatic brain injury and spinal cord injury. \nAt SIRE\, horses\, volunteers\, and trained instructors make a difference in the lives of people with disabilities every day. \nFurther information is available at http://sire-htec.org/client-services/
URL:https://inspiringhands.org/event/interested-in-volunteering-with-sire/
ATTACH;FMTTYPE=image/png:https://inspiringhands.org/wp-content/uploads/2015/03/SireLogo-onecolor-310w.png
END:VEVENT
BEGIN:VEVENT
DTSTART;VALUE=DATE:20151101
DTEND;VALUE=DATE:20160316
DTSTAMP:20260423T091238
CREATED:20151014T172210Z
LAST-MODIFIED:20151128T221424Z
UID:1590-1446336000-1458086399@inspiringhands.org
SUMMARY:2016 AWARDS APPLICATIONS ARE NOW BEING ACCEPTED
DESCRIPTION:The 2016 Campership & Ridership Awards Applications are accepted November 1st through March 1st of the following year. Awards are granted to those with financial and special needs who have been pre-approved to attend one of Inspiring HANDS partner organizations. Our 2016 partners are Camp Blessing Texas\, Camp Bethesda Tomball and SIRE Therapeutic Equestrian Centers. Applicants are considered based on date completed application is received and  reviewed on a case by case basis by the board of directors. Recipients are notified by May 1st of each year. \nTo apply for a 2016 Campership or Ridership Award download our application by CLICKING HERE
URL:https://inspiringhands.org/event/2016-awards-applications-are-now-being-accepted/
ATTACH;FMTTYPE=image/jpeg:https://inspiringhands.org/wp-content/uploads/2015/10/FullSizeRender.jpg
ORGANIZER;CN="Inspiring HANDS  Inc":MAILTO:info@inspiringhands.org
END:VEVENT
BEGIN:VEVENT
DTSTART;TZID=America/Chicago:20151101T080000
DTEND;TZID=America/Chicago:20160315T170000
DTSTAMP:20260423T091238
CREATED:20151123T201856Z
LAST-MODIFIED:20151123T202009Z
UID:1603-1446364800-1458061200@inspiringhands.org
SUMMARY:2016 Inspiring YOUth Prom Program
DESCRIPTION:Each year Inspiring HANDS\, together with local businesses\, sponsors up to ten (10) seniors from a partnering high school within the greater Houston / Harris County area to attend their Senior Prom. Recipients enter to win complete prom packages including prom tickets\, a gown/tuxedo\, flowers\, hair\, nails and more complimentary of our local business partners. Recipients are awarded based on financial and/or special needs. \n  \nOur 2016 partnering high school is Cypress Fairbanks High School.\nApplicants may enter to win and review a complete list of rules by clicking here for a Fillable Entry Form for Inspiring YOUTH Prom 2016 . Entries are accepted November 1st through March 15th of the following year. \n  \nPrevious years partners\n2015 partnering high schools were Tomball Senior and Tomball Memorial High Schools. \nThank you to our 2015 sponsors – The Giving Gown Foundation\, Al’s Formal Wear – Willowbrook\, Bloomers Florist\, Trendsetters Hair Salon\, and Flamingo Nails all of Tomball\, Texas.
URL:https://inspiringhands.org/event/2016-inspiring-youth-prom-program/
ATTACH;FMTTYPE=image/jpeg:https://inspiringhands.org/wp-content/uploads/2015/11/Admit-One-Prom-16-Flyer.jpg
ORGANIZER;CN="Inspiring HANDS":MAILTO:info@inspiringhands.org
END:VEVENT
END:VCALENDAR